BEGIN:VCALENDAR
VERSION:2.0
PRODID:-//BPW Neuchatel//NONSGML kigkonsult.se iCalcreator 2.16.12//
METHOD:PUBLISH
X-MS-OLK-FORCEINSPECTOROPEN:TRUE
BEGIN:VEVENT
UID:20260424T172843CEST-9994dgh39C@BPW Neuchatel
DTSTAMP:20260424T152843Z
DESCRIPTION:\n \n\nDescriptif :\n\n'Aujourd'hui\, les feedbacks en entrepri
 se se font par e-mails\, les déclarations d'amour se font par messages int
 erposés et les RDV commerciaux s’enchainent par téléphone. L'art oratoire 
 est un triste laissé-pour-compte. Le rôle de Talk Box ? Proposer du consei
 l interactif en rhétorique et prise de parole pour apprendre à créer LA di
 fférence. Prêt(e) à franchir le pas ?\n\n\nQuand est-ce que vous avez\, po
 ur la dernière fois\, réellement souhaité créer La différence grâce à un m
 essage aiguisé ?\n\nLa vie active pullule de démonstrations rhétoriques et
  autres communications travaillées\, mais rares sont celles qui font mouch
 e.\nEntre publicités\, slogans politiques et réseaux sociaux\, venez décou
 vrir\, le temps d’une conférence vive et piquante\, une manière de repérer
  et d’utiliser quelques bonnes pratiques.\n\n\nObjectifs de la conférence 
 :\n\n- Démontrer les avantages et enjeux d’une communication maîtrisée au 
 travers d’exemples positifs et négatifs (politique\, réseaux sociaux\, pub
 licité\, etc.).\n- Transmettre 2-3 outils pratiques à appliquer dès le len
 demain.\n\nDurée : 30 minutes + 10-15 minutes d’échanges\n \nLa conférence
  sera suivie d’un repas au Cercle de la Colonia Libera Italiana.\n\n\n\nCo
 nférence\, repas & réseautage entre les participants \n\nTarif : CHF 35.- 
 à payer sur place\n\nLes places étant limitées\, merci de vous inscrire su
 r notre site internet.\n \n\nDélai d’inscription : 25 octobre midi\n \n\n
 \n\n\n 
DTSTART:20191031T183000
DTEND:20191031T223000
LOCATION:Rue du Tertre 4 à Neuchâtel
ORGANIZER:MAILTO:BPW Neuchatel <info@bpw-neuchatel.ch>
SUMMARY:BPW Neuchâtel - Conférence & Interclub BPW 'Rhétorique et prise de 
 parole : des outils pour faire la différence'
END:VEVENT
END:VCALENDAR
