BEGIN:VCALENDAR
VERSION:2.0
PRODID:-//BPW Neuchatel//NONSGML kigkonsult.se iCalcreator 2.16.12//
METHOD:PUBLISH
X-MS-OLK-FORCEINSPECTOROPEN:TRUE
BEGIN:VEVENT
UID:20260424T173217CEST-3042MCvoHH@BPW Neuchatel
DTSTAMP:20260424T153217Z
DESCRIPTION:\nLe BPW Club de Neuchâtel a le plaisir de vous convier à sa co
 nférence interclubs et publique donnée par deux jeunes femmes entrepreneus
 es avec comme thème de cette soirée \n\n' Les challenges de deux créatrice
 s suisses' \n \n\n\n\n\n\n \n\nManidou\, ce sont des matières douces\, des
  symboles forts empruntés à différentes cultures\, mais c’est également l’
 histoire de Fanny Caluori et de sa passion. Etoles\, ponchos\, vestes et b
 ijoux\, chaque création est imaginée en Suisse et réalisée en Italie par d
 es artisans de renoms. Fanny nous parlera de son histoire et de ses nouvea
 ux défis.\n\n \n\nPar son processus de création\, Mädi raconte une histoir
 e moderne de la Suisse et célèbre la beauté féminine dans son look authent
 ique et ses détails. Depuis le début de l’élaboration de la marque\, Jenni
 fer Berger a placé méticuleusement chaque brique pour créer des fondements
  solides\, du choix des matériaux à celui des collaborateurs. Mädi est le 
 résultat d’un produit bien fini grâce à un travail collectif\n\n \n\nProgr
 amme de cette soirée qui se tiendra à La Mezzanine : \n\n18h30            
   Accueil\n\n19h00 - 19h20 Conférence de Fanny Caluori\n\n19h20 - 19h40 Co
 nférence de Jennifer Berger\n\n19h40 - 20h00 Débat - Questions / Réponses 
 pour vous 2\n\n20h00 - 22h00 Réseautage & Apéritif dînatoire \n\n \n\nLa c
 onférence sera suivie d’un apéritif dinatoire préparé par Woodey Suchard\,
  pour célébrer ensemble la fin de l’année du club et permettre aux partici
 pantes de réseauter. \n\n\n\n\n\nConférence\, repas & réseautage entre les
  participantes. Les boissons seront offertes par le Club BPW Neuchâtel. \n
  \n\n\n	Tarif membres BWP : CHF 35.-  à payer sur place\n	Tarif non-membres 
 : CHF 45.- à payer sur place\n\n\nLes places étant limitées\, merci de vou
 s inscrire rapidement.\n \n\nDélai d’inscription : 14 novembre midi\n \n
DTSTART:20191121T183000
DTEND:20191121T220000
LOCATION:La Mezzanine\, Rue des Usines 17\, Neuchâtel
ORGANIZER:MAILTO:BPW Neuchatel <info@bpw-neuchatel.ch>
SUMMARY:BPW Neuchâtel - Conférence 'Les challenges de deux créatrices suiss
 es' - apéritif dinatoire de fin d'année  
END:VEVENT
END:VCALENDAR
