BEGIN:VCALENDAR
VERSION:2.0
PRODID:-//BPW Neuchatel//NONSGML kigkonsult.se iCalcreator 2.16.12//
METHOD:PUBLISH
X-MS-OLK-FORCEINSPECTOROPEN:TRUE
BEGIN:VEVENT
UID:20260424T172925CEST-76907aOWOc@BPW Neuchatel
DTSTAMP:20260424T152925Z
DESCRIPTION:\nLa grève féministe 2019 a pour devise 'Gleichberechtigung. Pu
 nkt. Schluss! Egalité. Point final!'\n\nPour plus d'informations\, cliquez
  ici.\n 
DTSTART:20190614T000000
DTEND:20190614T235900
ORGANIZER:MAILTO:BPW Neuchatel <info@bpw-neuchatel.ch>
SUMMARY:Frauen*streik – grève féministe 14.6.2019
END:VEVENT
END:VCALENDAR
