BEGIN:VCALENDAR
VERSION:2.0
PRODID:-//BPW Neuchatel//NONSGML kigkonsult.se iCalcreator 2.16.12//
METHOD:PUBLISH
X-MS-OLK-FORCEINSPECTOROPEN:TRUE
BEGIN:VEVENT
UID:20260424T172910CEST-0584buLzbN@BPW Neuchatel
DTSTAMP:20260424T152910Z
DESCRIPTION:L'assemblée des déléguées 2019 se tiendra le 29 juin à Lucerne.
 \n\nToutes les informations se trouvent dans le Flyer. \n\nVeuillez vous i
 nscrire directement sur ce site Web. Les prix Early Bird sont valables jus
 qu'au 31 mai 2019.\n
DTSTART:20190629T000000
DTEND:20190629T235900
LOCATION:Hotel Schweizerhof
ORGANIZER:MAILTO:BPW Neuchatel <info@bpw-neuchatel.ch>
SUMMARY:Assemblée des déléguées 2019
END:VEVENT
END:VCALENDAR
