BEGIN:VCALENDAR
VERSION:2.0
PRODID:-//BPW Neuchatel//NONSGML kigkonsult.se iCalcreator 2.16.12//
METHOD:PUBLISH
X-MS-OLK-FORCEINSPECTOROPEN:TRUE
BEGIN:VEVENT
UID:20260424T173206CEST-5029zJEzR2@BPW Neuchatel
DTSTAMP:20260424T153206Z
DESCRIPTION:Save the date!\n\n7. BPW Golf Trophy am 23. August 2019 Engadin
  Golf Club\, Golfanlage Samedan\n\nWeitere Informationen finden Sie hier.
DTSTART:20190823T000000
DTEND:20190823T235900
LOCATION:Engadin
ORGANIZER:MAILTO:BPW Neuchatel <info@bpw-neuchatel.ch>
SUMMARY:7. BPW Golf Trophy
END:VEVENT
END:VCALENDAR
