BEGIN:VCALENDAR
VERSION:2.0
PRODID:-//BPW Neuchatel//NONSGML kigkonsult.se iCalcreator 2.16.12//
METHOD:PUBLISH
X-MS-OLK-FORCEINSPECTOROPEN:TRUE
BEGIN:VEVENT
UID:20260424T173045CEST-125591VW7I@BPW Neuchatel
DTSTAMP:20260424T153045Z
DESCRIPTION:Invitation à la conférence des présidentes du 28.09.2019\n \nLe
 s présidentes de tous les clubs BPW de Suisse et le Comité central des BPW
  Switzerland se rencontrent une fois par an lors de la conférence des prés
 identes.\n\nLa participation est gratuite pour tous les (co)présidentes. E
 n cas d'annulation après le 22 septembre 2019\, une taxe de CHF 86 sera fa
 cturée.\n
DTSTART:20190928T093000
DTEND:20190928T170000
LOCATION:Hotel Olten
ORGANIZER:MAILTO:BPW Neuchatel <info@bpw-neuchatel.ch>
SUMMARY:Conférence des présidentes
END:VEVENT
END:VCALENDAR
