BEGIN:VCALENDAR
VERSION:2.0
PRODID:-//BPW Neuchatel//NONSGML kigkonsult.se iCalcreator 2.16.12//
METHOD:PUBLISH
X-MS-OLK-FORCEINSPECTOROPEN:TRUE
BEGIN:VEVENT
UID:20260424T172909CEST-7001483DVV@BPW Neuchatel
DTSTAMP:20260424T152909Z
DESCRIPTION:Ensemble\, nous façonnons l'avenir desBPW\n\nContent\nAtelier i
 nteractif:\nC'est ainsi que nous façonnons l'avenir\ndes BPW à travers les
  générations et\nutilisons nos synergies pour le\ndéveloppement individuel
 .\n\nThe evolution of style\nFashion & Beauty Studio\n\nPour tous les déta
 ils\, veuillez consulter le flyer.\n(Attention nouveau lieu: General Elect
 ric (Switzerland) GmbH\,Brown Boveri Strasse 7\, 5401 Baden)\n\nLes inscri
 ptions sont définitives. En cas d'annulation après le 11 octobre 2019 ou d
 e non-présentation\, le montant total est exigé.\n\n 
DTSTART:20191026T093000
DTEND:20191026T160000
LOCATION:General Electric (Switzerland) GmbH
ORGANIZER:MAILTO:BPW Neuchatel <info@bpw-neuchatel.ch>
SUMMARY:Un pont entre les générations
END:VEVENT
END:VCALENDAR
