BEGIN:VCALENDAR
VERSION:2.0
PRODID:-//BPW Neuchatel//NONSGML kigkonsult.se iCalcreator 2.16.12//
METHOD:PUBLISH
X-MS-OLK-FORCEINSPECTOROPEN:TRUE
BEGIN:VEVENT
UID:20260424T173018CEST-78994Zu4Mh@BPW Neuchatel
DTSTAMP:20260424T153018Z
DESCRIPTION:Tous les détails de la conférence d'automne de cette année peuv
 ent être trouvés ici dans le dépliant.\n\nVeuillez noter que le nombre de 
 places pour la soirée de gala est limité. Cela vaut la peine de s'inscrire
  rapidement !
DTSTART:20191102T000000
DTEND:20191102T235900
LOCATION:Romanshorn
ORGANIZER:MAILTO:BPW Neuchatel <info@bpw-neuchatel.ch>
SUMMARY:Conférence d'automne 2019
END:VEVENT
END:VCALENDAR
