BEGIN:VCALENDAR
VERSION:2.0
PRODID:-//BPW Neuchatel//NONSGML kigkonsult.se iCalcreator 2.16.12//
METHOD:PUBLISH
X-MS-OLK-FORCEINSPECTOROPEN:TRUE
BEGIN:VEVENT
UID:20260424T173433CEST-2522fLk1lr@BPW Neuchatel
DTSTAMP:20260424T153433Z
DESCRIPTION:\nLe BPW Club de Neuchâtel a le plaisir de vous convier à une j
 ournée de développement personnel et de réalisation de soi pour vous perme
 ttre de développer votre confiance en vous pour communiquer avec authentic
 ité.\n\n\nCommuniquer avec confiance et authenticité\n\npar Karen Cody \n
 \n \n\n\n \n\nSamedi\, 25 janvier 2020\nde 9h à 17h \n\nUnion commerciale
 \n\nPlace Coq D’Inde | Neuchâtel\n\n\n\n\nL’atelier comprendra des sujets 
 suivants :\n\n\n	Communiquer avec un langage engageant et professionnel\n	Re
 connaître et éliminer ses croyances limitatives\, les croyances qui nous r
 etiennent\n	Identifier ses valeurs\n	Travailler l’écoute active et la commun
 ication non-verbale\n	Introduction de l’intelligence émotionnelle \; gérer 
 ses émotions et celles d’autrui\n	Créer son “personal brand” afin d’aisémen
 t se présenter en toute situation professionnelle\n	Discussions interactive
 s\, partages d’expériences et feedback\n	Identifier ses forces et ses point
 s d’amélioration et réaliser un plan d’action\n\n\n\n\nCette journée de fo
 rmation est offerte par le club à ses membres uniquement. \n\n\nLe tarif f
 orfaitaire de CHF 45.- (à payer sur place) couvre le repas de midi\, les b
 oissons et cafés.\n \n\nLes places étant limitées à 20 personnes au maximu
 m\, merci de vous inscrire sur notre site internet. d’ici au 30 décembre 2
 019 midi\n\n\nDélai de désistement : le 15 janvier 2020 12h. Merci de note
 r que toute inscription est dûe et devra être payée passé ce délai !\n \n
 \nPour le comité\,  Aurelia Di Lenardo | vice-présidente BPW Switzerland C
 lub Neuchâtel | Chargée de communication | M. 079 233 95 86\n\n \n
DTSTART:20200125T000000
DTEND:20200125T235900
LOCATION:Lieu à confirmer
ORGANIZER:MAILTO:BPW Neuchatel <info@bpw-neuchatel.ch>
SUMMARY:BPW Neuchâtel - Journée de formation pour les membres 'Communiquer 
 avec confiance et authenticité'
END:VEVENT
END:VCALENDAR
