BEGIN:VCALENDAR
VERSION:2.0
PRODID:-//BPW Neuchatel//NONSGML kigkonsult.se iCalcreator 2.16.12//
METHOD:PUBLISH
X-MS-OLK-FORCEINSPECTOROPEN:TRUE
BEGIN:VEVENT
UID:20260424T173345CEST-92738VxIFV@BPW Neuchatel
DTSTAMP:20260424T153345Z
DESCRIPTION:Détails à suivre\n\n \n
DTSTART:20200222T000000
DTEND:20200222T235900
LOCATION:Lieu à confirmer
ORGANIZER:MAILTO:BPW Neuchatel <info@bpw-neuchatel.ch>
SUMMARY:BPW Neuchâtel - Equal Pay Day
END:VEVENT
END:VCALENDAR
