BEGIN:VCALENDAR
VERSION:2.0
PRODID:-//BPW Neuchatel//NONSGML kigkonsult.se iCalcreator 2.16.12//
METHOD:PUBLISH
X-MS-OLK-FORCEINSPECTOROPEN:TRUE
BEGIN:VEVENT
UID:20260424T173310CEST-1818BPI18g@BPW Neuchatel
DTSTAMP:20260424T153310Z
DESCRIPTION:\n\nJeudi\, 6 février 2020    \nà 18h \n\nHUB Neuchâtel | Rue d
 es Terreaux 7 | Neuchâtel\n\n\n\n\n\nA l’ordre du jour :\n \n\n\n	PV 30 jan
 v 2019\n	Nomination des scrutatrices\n	Comptes( rapport des réviseuses des c
 omptes)\n	Budget\n	Comité 2020-21\n	Programme 2020-2021 - Equal Pay Day - You
 g BPW\n	Intronisation des nouvelles membres\n	Cérémonie des bougies \n\n\n\n
 \n\nLe tarif forfaitaire de CHF 35.- (à payer sur place) apéritif offert.
 \n\n\n\nMerci de vous inscrire d’ici au 4 février 2020 ( tout désistement 
 ou absence au-delà de cette date est facturé)\n\n\n\nDe plus\, nous avons 
 besoin de nouvelles membres au sein du comité et faisons donc appel à vous
  ! Souhaitez-vous faire partie du comité du Club BPW – Neuchâtel ? \n\n\n
 \n\n\n\n\nPour le comité\,  Souad Hacheler | Présidente BPW Switzerland Cl
 ub Neuchâtel |\n \n\n \n
DTSTART:20200206T180000
DTEND:20200206T220000
LOCATION:Hub Neuchâtel
ORGANIZER:MAILTO:BPW Neuchatel <info@bpw-neuchatel.ch>
SUMMARY:BPW Neuchâtel - Assemblée Générale & Repas
END:VEVENT
END:VCALENDAR
