BEGIN:VCALENDAR
VERSION:2.0
PRODID:-//BPW Neuchatel//NONSGML kigkonsult.se iCalcreator 2.16.12//
METHOD:PUBLISH
X-MS-OLK-FORCEINSPECTOROPEN:TRUE
BEGIN:VEVENT
UID:20260424T173309CEST-88154Xsvnz@BPW Neuchatel
DTSTAMP:20260424T153309Z
DESCRIPTION:\n[❌COVID-19❌] Conférence 'NUTRITION-DIETETIQUE' ANNULEE\n\nChè
 res membres\,\nAujourd’hui nous vivons des moments difficiles. Le Covid-19
  s’est invité chez nous aussi et nous devons prendre des dispositions afin
  de chasser cet hôte indésirable.\n\nVotre club BPW Neuchâtel \, par son c
 omité a dû reporter toutes les manifestations y compris celle du 19 mars p
 rochain.\n\nBien évidemment\, la priorité reste votre santé\, la nôtre et 
 celle de tous nos concitoyens.\n\nVivement que nous puissions tous surmont
 er cette épreuve et que nous reprenions nos activités.\n\nBPW Club NEUCHÂT
 EL\n \n\n \n\n\nL’été nous renvoie à notre silhouette et le mois de mars n
 ous invite à la travailler.\n\nVotre club BPW\, soucieux aussi de votre bo
 nne forme vous invite à découvrir et partager le jeudi 19 mars 2020  une s
 oirée consacrée à la diététique\, la nutrition et à la healthy life.\n\nGr
 âce à notre experte madame Séverine Chedel\, diététicienne\, bien des écue
 ils à éviter dans notre mode alimentaire nous seront dévoilés ainsi que le
 s clés pour les éviter.\n \n\nNous avons privatisé le Café Okapi (Rue du T
 emple-Neuf 11\, 2000 Neuchâtel) qui nous  accueillera dès 18h30.\n\n\n\nLa
  conférence interactive sera suivie d’un apéritif dînatoire très « sain » 
 qui facilitera aussi le réseautage.\n\n\n\nPrix de la soirée CHF 40.-\n\nV
 ous pouvez vous inscrire en ligne jusqu’au mardi 17 mars 2020\, 12h.\n\nPo
 ur rappel  toute inscription est due au-delà de ce délai\n\n \n
DTSTART:20200319T180000
DTEND:20200319T220000
LOCATION:Café Okapi 
ORGANIZER:MAILTO:BPW Neuchatel <info@bpw-neuchatel.ch>
SUMMARY:BPW Neuchâtel - ANNULATION ! - Conférence 'NUTRITION-DIETETIQUE' & 
 Repas réseautage
END:VEVENT
END:VCALENDAR
