BEGIN:VCALENDAR
VERSION:2.0
PRODID:-//BPW Neuchatel//NONSGML kigkonsult.se iCalcreator 2.16.12//
METHOD:PUBLISH
X-MS-OLK-FORCEINSPECTOROPEN:TRUE
BEGIN:VEVENT
UID:20260424T173510CEST-4736e5I2JB@BPW Neuchatel
DTSTAMP:20260424T153510Z
DESCRIPTION:\n 
DTSTART:20200429T183000
DTEND:20200429T223000
LOCATION:Lieu à confirmer
ORGANIZER:MAILTO:BPW Neuchatel <info@bpw-neuchatel.ch>
SUMMARY:BPW Neuchâtel - Visite d'entreprise
END:VEVENT
END:VCALENDAR
