BEGIN:VCALENDAR
VERSION:2.0
PRODID:-//BPW Neuchatel//NONSGML kigkonsult.se iCalcreator 2.16.12//
METHOD:PUBLISH
X-MS-OLK-FORCEINSPECTOROPEN:TRUE
BEGIN:VEVENT
UID:20260424T173259CEST-2770ItUwxd@BPW Neuchatel
DTSTAMP:20260424T153259Z
DESCRIPTION: \n\n \n
DTSTART:20200527T180000
DTEND:20200527T220000
LOCATION:Lieu à confirmer
ORGANIZER:MAILTO:BPW Neuchatel <info@bpw-neuchatel.ch>
SUMMARY:BPW Neuchâtel - Conférence 'Women on Board' & Repas
END:VEVENT
END:VCALENDAR
