BEGIN:VCALENDAR
VERSION:2.0
PRODID:-//BPW Neuchatel//NONSGML kigkonsult.se iCalcreator 2.16.12//
METHOD:PUBLISH
X-MS-OLK-FORCEINSPECTOROPEN:TRUE
BEGIN:VEVENT
UID:20260424T173044CEST-8463Ia1deZ@BPW Neuchatel
DTSTAMP:20260424T153044Z
DESCRIPTION:\nL'Afterwork BPW Neuchâtel\n\nVisite de l'Espace SCHILLING à N
 euchâtel \n\nNotre soirée culturelle commencera par une visite guidée avec
  notre hôtesse Angela Schilling qui nous confiera les contours de son méti
 er. Nous explorerons ensuite en solitaire les œuvres dédiées à la 'méditat
 ion'\, incluant les dessins choisis de l'artiste-journaliste Florence Griv
 el de la série 'Draw'.\n\nIl s'agit d'une exposition collective avec plusi
 eurs artistes.\n\nNotre soirée se poursuivra avec un apéritif gourmand et 
 du vin de Bourgogne\, qui accompagneront les échanges et le réseautage ave
 c les artistes présents et Angela Schilling.\n\nPrix de la soirée pour les
  membres : CHF 35.--\nPrix de la soirée pour les non-membres :  CHF 45.--
 \n\nMerci de vous inscrire jusqu'au 1er juillet midi.\n\nTout désistement 
 au-delà de ce délai sera impossible et la soirée facturée.\n\n\n\n\n \n\n
 \n\n \n
DTSTART:20200702T173000
DTEND:20200702T210000
LOCATION:Espace Schilling - Afterwork 
ORGANIZER:MAILTO:BPW Neuchatel <info@bpw-neuchatel.ch>
SUMMARY:Notre évènement estival en présentiel cette fois
END:VEVENT
END:VCALENDAR
