BEGIN:VCALENDAR
VERSION:2.0
PRODID:-//BPW Neuchatel//NONSGML kigkonsult.se iCalcreator 2.16.12//
METHOD:PUBLISH
X-MS-OLK-FORCEINSPECTOROPEN:TRUE
BEGIN:VEVENT
UID:20260424T172925CEST-4850ZwzJ2G@BPW Neuchatel
DTSTAMP:20260424T152925Z
DESCRIPTION:\nEn raison de la situation actuelle\, nous avons décidé de men
 er la formation de manière digitale.\n\n\n \n\nSujets\n\nSite web:\n- Page
 s de contenu comprenant des images\, des modèles et des redirections\n- Ap
 plications\n- Formulaires\n- Container de contenu\n- Événements\, y compri
 s les listes et les formulaires d'inscription\n- Bulletin d'information\, 
 y compris les modèles de format et les listes de diffusion\n- Domaine inte
 rne (du club)\nAdministrations des adresses électroniques\n\nVous recevrez
  une invitation à la session de zoom par e-mail après réception de votre i
 nscription.\n\n\n
DTSTART:20200327T140000
DTEND:20200327T160000
ORGANIZER:MAILTO:BPW Neuchatel <info@bpw-neuchatel.ch>
SUMMARY:Formation pour site Internet et base de données
END:VEVENT
END:VCALENDAR
