BEGIN:VCALENDAR
VERSION:2.0
PRODID:-//BPW Neuchatel//NONSGML kigkonsult.se iCalcreator 2.16.12//
METHOD:PUBLISH
X-MS-OLK-FORCEINSPECTOROPEN:TRUE
BEGIN:VEVENT
UID:20260424T175150CEST-42580Fmj1n@BPW Neuchatel
DTSTAMP:20260424T155150Z
DESCRIPTION:\nAu lieu de la formation des présidentes prévue\, nous organis
 erons un échange en ligne entre le comité central et les présidentes des c
 lubs BPW le 18 avril à partir de 10 heures.\n\nVeuillez vous inscrire en u
 tilisant le lien ci-dessous.\n\n\n
DTSTART:20200418T100000
DTEND:20200418T120000
ORGANIZER:MAILTO:BPW Neuchatel <info@bpw-neuchatel.ch>
SUMMARY:Online-Meeting des présidentes des Clubs BPW
END:VEVENT
END:VCALENDAR
