BEGIN:VCALENDAR
VERSION:2.0
PRODID:-//BPW Neuchatel//NONSGML kigkonsult.se iCalcreator 2.16.12//
METHOD:PUBLISH
X-MS-OLK-FORCEINSPECTOROPEN:TRUE
BEGIN:VEVENT
UID:20260424T173406CEST-729383v7zu@BPW Neuchatel
DTSTAMP:20260424T153406Z
DESCRIPTION:Malheureusement\, cet événement a dû être annulé en raison de l
 a situation actuelle de COVID-19 et des spécifications du gouvernement féd
 éral et du BAG pour l'année 2020.\n\nToutefois\, nous serions heureuses d'
 organiser une autre BPW Golf Trophy en 2021 et nous nous réjouissons de la
  participation de nombreuses amateures de golf de la BPW.
DTSTART:20200828T000000
DTEND:20200828T235900
LOCATION:Region Zentralschweiz
ORGANIZER:MAILTO:BPW Neuchatel <info@bpw-neuchatel.ch>
SUMMARY:BPW Golf Trophy 2020
END:VEVENT
END:VCALENDAR
