BEGIN:VCALENDAR
VERSION:2.0
PRODID:-//BPW Neuchatel//NONSGML kigkonsult.se iCalcreator 2.16.12//
METHOD:PUBLISH
X-MS-OLK-FORCEINSPECTOROPEN:TRUE
BEGIN:VEVENT
UID:20260424T173104CEST-5528l9u1ec@BPW Neuchatel
DTSTAMP:20260424T153104Z
DESCRIPTION: \n\n \n
DTSTART:20200409T180000
DTEND:20200409T220000
LOCATION:Lieu à confirmer
ORGANIZER:MAILTO:BPW Neuchatel <info@bpw-neuchatel.ch>
SUMMARY:BPW Neuchâtel - Equal Pay Day
END:VEVENT
END:VCALENDAR
