BEGIN:VCALENDAR
VERSION:2.0
PRODID:-//BPW Neuchatel//NONSGML kigkonsult.se iCalcreator 2.16.12//
METHOD:PUBLISH
X-MS-OLK-FORCEINSPECTOROPEN:TRUE
BEGIN:VEVENT
UID:20260424T173433CEST-5406V2Jr2o@BPW Neuchatel
DTSTAMP:20260424T153433Z
DESCRIPTION:Meet the Power Women of Thailand at the 30th Anniversary Global
  Summit of Women in Bangkok\, Thailand on October\, 8-10\,2020.\n(It was p
 lanned for April\, 23-25\, but is postponed to October 8-10\,2020 for the 
 safety of the participants during this global health crisis.)\n\nClick the
  video to see Summit President Irene Natividad interview Chadatip Chutraku
 l\, CEO of Siam Piwat\, who developed the award-winning ICONSIAM\, a 20-ac
 re shopping and residential complex along the Chao Phraya RIver in Bangkok
 .\n\nDid you know that…\n· Thai women make up 40% of Chief Executives and 
 34% of Chief Financial Officers in Thai companies\;\n· Thailand ranks #1 i
 n the world for enrollment of women in higher education with 1.41 women at
 tending a university for every man\;\n· Women in Thailand were among the f
 irst women in Asia who were granted the right to vote in 1932\;\n· Thailan
 d's female population comprises 47% of the country's workforce\, which mak
 es up the highest percentage of working women in the Asia-Pacific region\n
 size=3 width='100%' align=center>\n\nDon't miss out!\n\nRegister for the 2
 020 Global Summit of Women in Bangkok\, Thailand to hear from more powerfu
 l Thai women and women across the globe on real\, pressing issues facing w
 omen today.\n\nTo see who else you can meet at the 2020 Global Summit of W
 omen in Bangkok\, click here.\n
DTSTART:20201008T000000
DTEND:20201010T235900
LOCATION:Bangkok Thailand
ORGANIZER:MAILTO:BPW Neuchatel <info@bpw-neuchatel.ch>
SUMMARY:Global Summit of Women 
END:VEVENT
END:VCALENDAR
