BEGIN:VCALENDAR
VERSION:2.0
PRODID:-//BPW Neuchatel//NONSGML kigkonsult.se iCalcreator 2.16.12//
METHOD:PUBLISH
X-MS-OLK-FORCEINSPECTOROPEN:TRUE
BEGIN:VEVENT
UID:20260424T172909CEST-4195v3LOvO@BPW Neuchatel
DTSTAMP:20260424T152909Z
DESCRIPTION:\n5 septembre 2020\, Hotel Villa Sassa\, Lugano \n\nLe Comité c
 entral a décidé de convoquer l'Assemblée des déléguées au Tessin le 5 sept
 embre 2020. L'Assemblée des déléguées se déroulera à la fois en présentiel
  et sous forme numérique. Comme le canton du Tessin autorise des manifesta
 tions réunissant jusqu’à 100 personnes dans un établissement public\, nous
  sommes confiantes que nous pourrons tenir la réunion en septembre. Nous s
 ommes conscientes que nous devons être aussi agiles que possible et que be
 aucoup de choses peuvent encore se passer d’ici le début du mois de septem
 bre. Dans cette optique\, nous vous remercions également pour votre compré
 hension et votre flexibilité. Nous remercions tout particulièrement le BPW
  Club Ticino pour son excellent travail.\n\nInvitation AdD 2020\nVers les 
 documents \n\n
DTSTART:20200905T000000
DTEND:20200905T235900
LOCATION:Hotel Villa Sassa Lugano
ORGANIZER:MAILTO:BPW Neuchatel <info@bpw-neuchatel.ch>
SUMMARY:Assemblée des déléguées 2020
END:VEVENT
END:VCALENDAR
