BEGIN:VCALENDAR
VERSION:2.0
PRODID:-//BPW Neuchatel//NONSGML kigkonsult.se iCalcreator 2.16.12//
METHOD:PUBLISH
X-MS-OLK-FORCEINSPECTOROPEN:TRUE
BEGIN:VEVENT
UID:20260424T172844CEST-3267RXbwnS@BPW Neuchatel
DTSTAMP:20260424T152844Z
DESCRIPTION:\n	\n		\n			\n			 \n			\n		\n		\n			\n		\n		\n			\n			 Romaine JEAN\, consultante en communi
 cation et médias\, ancienne rédactrice en cheffe à la RTS et créatrice de 
 l’émission Infrarouge\, assurera ce workshop créé pour vous\n\n			Cette pério
 de nous a forcées toutes à repenser notre mode de fonctionnement. Chacune 
 a dû inventer des stratégies afin de s’adapter au mieux. Votre créativité 
 et votre diversité ont été vos soutiens les plus précieux pendant cette cr
 ise sanitaire.\n\n			 \n\n			Votre club BPW Neuchâtel ne vous oublie pas et vous
  offre\, en lieu et place des conférences programmées\, une conférence-ate
 lier en ligne qui vous donnera quelques clés et outils de communication vo
 us permettant de surmonter cette période et d’anticiper l’après-Covid-19. 
 \n			 \n\n			Inscription réservée aux membres BPW Neuchâtel \n			\n		\n	\n\n\n 
DTSTART:20200602T133000
DTEND:20200602T153000
LOCATION:EN LIGNE
ORGANIZER:MAILTO:BPW Neuchatel <info@bpw-neuchatel.ch>
SUMMARY:CONFERENCE ATELIER EN LIGNE 'Osez communiquer en période de crise'
END:VEVENT
END:VCALENDAR
