BEGIN:VCALENDAR
VERSION:2.0
PRODID:-//BPW Neuchatel//NONSGML kigkonsult.se iCalcreator 2.16.12//
METHOD:PUBLISH
X-MS-OLK-FORCEINSPECTOROPEN:TRUE
BEGIN:VEVENT
UID:20260424T173104CEST-2838e1trxg@BPW Neuchatel
DTSTAMP:20260424T153104Z
DESCRIPTION:\n\n\nConférence\n\nNutrition Diététique - Healthy life\n\nNous
  avons le plaisir de convier nos membres à une conférence sur la diététiqu
 e suivie d'un apéritif 'sain' le jeudi 17 septembre 2020\, au Café Okapi d
 ès 18h30.\n\nL'Alimentation\, un vrai défi pour les femmes qui veulent gar
 der la notion du plaisir jumelée à leurs travail et famille.\n\nGrâce à no
 tre intervenante\, Séverine Chédel\, diététicienne\, nous découvrirons que
 lques écueils à éviter dans notre comportement alimentaire. \n\nElle nous 
 éclairera sur la meilleure manière de couvrir nos besoins alimentaires san
 s nous priver du plaisir de manger.\n\nTout un programme !\n\nPréparez vos
  questions afin que notre conférence soit interactive.\n\nPrix : CHF 40.--
  (place limitée\, sur inscription uniquement)\n\n\n
DTSTART:20200917T183000
DTEND:20200917T213000
LOCATION:Café Okapi
ORGANIZER:MAILTO:BPW Neuchatel <info@bpw-neuchatel.ch>
SUMMARY:Conférence - Séverine Chédel\, diététicienne
END:VEVENT
END:VCALENDAR
