BEGIN:VCALENDAR
VERSION:2.0
PRODID:-//BPW Neuchatel//NONSGML kigkonsult.se iCalcreator 2.16.12//
METHOD:PUBLISH
X-MS-OLK-FORCEINSPECTOROPEN:TRUE
BEGIN:VEVENT
UID:20260424T173346CEST-2251jbxSFw@BPW Neuchatel
DTSTAMP:20260424T153346Z
DESCRIPTION:\n\n\n \n\n \n\n \n\n \n\n\n
DTSTART:20201210T190000
DTEND:20201210T223000
ORGANIZER:MAILTO:BPW Neuchatel <info@bpw-neuchatel.ch>
SUMMARY:Souper de Noël de nos membres avec partenaire
END:VEVENT
END:VCALENDAR
