BEGIN:VCALENDAR
VERSION:2.0
PRODID:-//BPW Neuchatel//NONSGML kigkonsult.se iCalcreator 2.16.12//
METHOD:PUBLISH
X-MS-OLK-FORCEINSPECTOROPEN:TRUE
BEGIN:VEVENT
UID:20260424T173259CEST-0016RPUwZ3@BPW Neuchatel
DTSTAMP:20260424T153259Z
DESCRIPTION:\n \nATELIER - FORMATION\n\nCréez votre marque personnelle et p
 renez en main votre réussite professionnelle \n\nLe BPW Neuchâtel a le pla
 isir de convier ses membres à une journée de développement personnel comme
  :\n\n\n	Définir votre identité et votre valeur ajoutée professionnelle et 
 personnelle\n	Apprendre à véhiculer un message clair sur qui vous êtes et c
 e que vous avez à offrir\n	Déterminer ce qui est unique chez vous\n	Créer l'
 image que vous souhaitez montrer\n	Approprier votre 'personal brand' avec c
 onfiance\, authenticité et aisance\n\n\nCet atelier est sur inscription et
  réservé uniquement à nos membres !\n\nPrix de la journée incluant le repa
 s de midi : CHF 65.-- sur insciption uniquement jusqu'au 27 septembre 2020
 .\n\nTout désistement au delà de cette date sera impossible\, et la soirée
  facturée.\n\n
DTSTART:20201003T090000
DTEND:20201003T170000
LOCATION:Union Commerciale
ORGANIZER:MAILTO:BPW Neuchatel <info@bpw-neuchatel.ch>
SUMMARY:Personal Brand - formation présentée par Karen Cody
END:VEVENT
END:VCALENDAR
