BEGIN:VCALENDAR
VERSION:2.0
PRODID:-//BPW Neuchatel//NONSGML kigkonsult.se iCalcreator 2.16.12//
METHOD:PUBLISH
X-MS-OLK-FORCEINSPECTOROPEN:TRUE
BEGIN:VEVENT
UID:20260424T153503CEST-9081KNTJ3o@BPW Neuchatel
DTSTAMP:20260424T133503Z
DESCRIPTION:\n\n\nConférence via zoom\n\nCybergouvernance n'est pas à confo
 ndre avec Cybersécurité !\n\nCette introduction sera présentée par Carol C
 hisholm\, membre du BPW Neuchâtel\, administratrice\, spécialiste en infor
 matique et en cybergourvernance. \n\nVoici les grandes lignes de la confér
 ence  :\n\n- Identité et identification\n- Qualité et quantité de données
 \n- Plateformes et juridictions\n- Privé\, public et entreprise\n- Pérenni
 té et protection\n- Gestion de risques\n- Ressources humaines et technique
 s\n\nJeudi 7 janvier 2021\n19h00 - accueil virtuel \n19h15 - début de la c
 onférence virtuelle\n20h15 - discussion selon volonté\n\nPrix pour les mem
 bres : CHF 20.--/ par personne\n\nInscription jusqu'au 5 janvier 2020 !\nU
 ne confirmation avec le lien zoom pour la conférence sera envoyée quelques
  jours avant la conférence.\nTout désistement au-delà de ce délai sera imp
 ossible et la conférence facturée !\n \n\n
DTSTART:20210107T190000
DTEND:20210107T203000
LOCATION:Conférence virtuelle - via zoom
ORGANIZER:MAILTO:BPW Neuchatel <info@bpw-neuchatel.ch>
SUMMARY:Cyber Gouvernance\, conférence virtuelle présentée par Carol Chisho
 lm
END:VEVENT
END:VCALENDAR
