BEGIN:VCALENDAR
VERSION:2.0
PRODID:-//BPW Neuchatel//NONSGML kigkonsult.se iCalcreator 2.16.12//
METHOD:PUBLISH
X-MS-OLK-FORCEINSPECTOROPEN:TRUE
BEGIN:VEVENT
UID:20260424T172915CEST-1091Dw3Buv@BPW Neuchatel
DTSTAMP:20260424T152915Z
DESCRIPTION:Mesdames\,\n\nNous avons le plaisir de vous inviter à un événem
 ent de réseautage de haut niveau. C‘est un grand honneur pour nous de pouv
 oir accueillir les trois conseillères fédérales à l’occasion de notre mani
 festation du lundi 10 août 2020. La participation des femmes au processus 
 politique est fondamentale pour nous\, les réseaux de femmes. La prochaine
  votation du 27 septembre 2020 contient également des aspects importants d
 u point de vue des femmes.\n\nL‘événement est public et politiquement indé
 pendant\, hommes et femmes sont les bienvenus. Le nombre de participants e
 st limité à 400 afin de maintenir la distance sanitaire nécessaire.  Veuil
 lez-vous inscrire sous: https://form.jotform.com/201821748635357\n\nMeille
 ures salutations\n\nClaudine Esseiva\, présidente\n\nINVITATION\n\n\n 
DTSTART:20200810T180000
DTEND:20200810T200000
LOCATION:Kursaal Bern
ORGANIZER:MAILTO:BPW Neuchatel <info@bpw-neuchatel.ch>
SUMMARY:DÉBAT AVEC LES CONSEILLÈRES FÉDÉRALES
END:VEVENT
END:VCALENDAR
