BEGIN:VCALENDAR
VERSION:2.0
PRODID:-//BPW Neuchatel//NONSGML kigkonsult.se iCalcreator 2.16.12//
METHOD:PUBLISH
X-MS-OLK-FORCEINSPECTOROPEN:TRUE
BEGIN:VEVENT
UID:20260424T153502CEST-5506NP6SvH@BPW Neuchatel
DTSTAMP:20260424T133502Z
DESCRIPTION:\n \n\nJeudi 11 février 2021 à 19h00\n\n \n\nSéance en ligne vi
 a Zoom\n\n\n\nA l’ordre du jour :\n\n\n	PV 6 février 2020\n	Ordre du jour\n	E
 tat des membres\n	Rétrospective de nos activités 2020 et statistiques des r
 éseaux sociaux\n	Comptes\n	Budget 2021\n	Décharge des comptes (nomination des
  prochaines réviseuses)\n	BPW International et Suisse\n	Assemblée des délégu
 ées à Lugano\n	Equal Pay Day (EPD) - 19.2.2021 à 18h00 (zoom)\, jumelé avec
  50ème des droits de vote des femmes\n	Cathy Savioz offre à toutes les memb
 res BPW Neuchâtel la version numérique de son livre EPD\n	Nouveau comité av
 ec présentation des candidates (one minute pitch sessions)\n	Election et ré
 sultats de notre nouvelle Présidente\n	Présentation des activités 2021\n	Apé
 ro virtuel\n	Clôture\n\n\n\n\n\nGRATUIT\n\n \n\n\n\nMerci de vous inscrire 
 d’ici au 9 février 2021 !\n\n \n\n\n\nSouhaitez-vous faire partie du comit
 é du Club BPW – Neuchâtel ? N'hésitez pas à nous contacter\, on vous atten
 d ! \n\n\n\n\n\n\n\n\n\nPour le comité\,  Souad Hachler | Présidente BPW S
 witzerland Club Neuchâtel |\n \n\n \n
DTSTART:20210211T190000
DTEND:20210211T203000
LOCATION:ONLINE via ZOOM
ORGANIZER:MAILTO:BPW Neuchatel <info@bpw-neuchatel.ch>
SUMMARY:BPW Neuchâtel - Assemblée Générale
END:VEVENT
END:VCALENDAR
