BEGIN:VCALENDAR
VERSION:2.0
PRODID:-//BPW Neuchatel//NONSGML kigkonsult.se iCalcreator 2.16.12//
METHOD:PUBLISH
X-MS-OLK-FORCEINSPECTOROPEN:TRUE
BEGIN:VEVENT
UID:20260424T160127CEST-16777BweBu@BPW Neuchatel
DTSTAMP:20260424T140127Z
DESCRIPTION:\nSongez-vous à vous impliquer au sein du comité de votre BPW C
 lub? Mais ne savez-vous pas (encore) ce qui vous attend et ce qu'on attend
  de vous?\n \nVous êtes déjà membre du comité\, mais aimeriez en savoir pl
 us sur l'association et les opportunités que BPW vous offre?\n \nAimeriez-
 vous établir (encore) un meilleur réseau avec d'autres membres du comité d
 ans toute la Suisse?\n\nLe programme:\n\n\n	\n	Histoire\, objectifs et valeu
 rs des BPW\n	\n	\n	Programme annuel 2021\, contenu et dates\n	\n	\n	BPW Internat
 ional/Europe \n	\n	\n	Equal Pay et Equal Representation\n	\n	\n	Coopération avec
  le bureau central\, finances\n	\n	\n	Adhésions (entreprises\, jeunes\, etc.)
 \, mentorat et carrières\n	\n	\n	Leadership dans le domaine du volontariat \n
 	\n\n\n\nEnfin\, nous aurons l'occasion d'échanger des idées et de créer de
 s réseaux en petits groupes.\n\nNous nous réjouissons de votre inscription
  ! Cette année\, l'atelier aura lieu en ligne via Zoom. Le lien d'accès se
 ra envoyé par courrier peu avant l'événement. \n \n\n\n
DTSTART:20210206T090000
DTEND:20210206T113000
LOCATION:Online via Zoom
ORGANIZER:MAILTO:BPW Neuchatel <info@bpw-neuchatel.ch>
SUMMARY:Atelier pour les membres potentielles du comité
END:VEVENT
END:VCALENDAR
