BEGIN:VCALENDAR
VERSION:2.0
PRODID:-//BPW Neuchatel//NONSGML kigkonsult.se iCalcreator 2.16.12//
METHOD:PUBLISH
X-MS-OLK-FORCEINSPECTOROPEN:TRUE
BEGIN:VEVENT
UID:20260424T155932CEST-8415ntBWuV@BPW Neuchatel
DTSTAMP:20260424T135932Z
DESCRIPTION: \n\n\n\n\n \n\n\nPréparez vos papilles\, vos magnifiques verre
 s à pied\, votre tenue de circonstance\, et rendez-vous jeudi 11 mars à 19
 h00 pour une dégustation de vins Suisses en ligne !\n\nAu programme\, une 
 rencontre virtuelle avec Guillaume Godet\, tenancier du concept 'DADA (ex 
 French Paradoxe)' à Neuchâtel\, qui vous dévoilera les secrets des 3 vins 
 que nous vous aurons selectionnés pour cette dégustation créative !\n\nLe 
 principe est simple\, chaque membre inscrite commandera son coffret de dég
 ustation de 3 vins (1 blanc\, et 2 rouges) au prix de CHF 45.--. \n\nIl y 
 aura la possibilité d'un pick & collect directement au magasin de Neuchâte
 l\, ou avec des frais de poste en sus\, une livraison à domicile. \n\nComm
 ande du coffret auprès du lien : Dégustation BPW - Neuchâtel – DADA\, le v
 in suisse\, directement avec la vinothèque DADA !\n\nLa date butoir de com
 mande de vos coffrets est fixée au samedi 6 mars 2021 !\n \n\nAdresse pour
  la prise en charge de votre coffret dégustation de 3 bouteilles de vin Su
 isse sélectionnées par M. Guillaume Godet.\n\nDADA (ex : French Paradoxe)
 \nRue du Trésor 2\n2000 Neuchâtel\n\nHoraire du magasin :\nMardi - Vendred
 i - 13h30 à 18h30\nSamedi - 9h00 à 17h00\n\n \n\nVous aimez l'idée ? Inscr
 ivez-vous pour obtenir le lien Zoom !\n\n \n\n \n\n \n
DTSTART:20210311T190000
DTEND:20210311T213000
LOCATION:ONLINE via ZOOM
ORGANIZER:MAILTO:BPW Neuchatel <info@bpw-neuchatel.ch>
SUMMARY:SOIREE VIRTUELLE DE DEGUSTATION DE VINS
END:VEVENT
END:VCALENDAR
