BEGIN:VCALENDAR
VERSION:2.0
PRODID:-//BPW Neuchatel//NONSGML kigkonsult.se iCalcreator 2.16.12//
METHOD:PUBLISH
X-MS-OLK-FORCEINSPECTOROPEN:TRUE
BEGIN:VEVENT
UID:20260424T153642CEST-5299JJp6xC@BPW Neuchatel
DTSTAMP:20260424T133642Z
DESCRIPTION:Conférence en ligne \n\n \n\nVous est-il arrivée de communiquer
  avec autrui (proches\, collègues\, supérieurs....) et d'avoir l'impressio
 n de ne pas être comprise ?\n\nUn individu est composé d’un mélange subtil
  et unique de 6 types de personnalités. En fonction de ce mélange\, appara
 issent des caractéristiques comportementales\,\ndes modes de lecture préfé
 rentielle de la réalité\, des motivations\, des façons de communiquer et d
 es comportements sous stress prévisibles et observables.\nDécouvrez\, quel
 les clés la Process Communication Model® nous donne pour adapter notre mes
 sage à tous les types de personnalités !\n\nPrix de la conférence pour nos
  membres : CHF 20.—\nPrix de la conférence pour nos membres Young : CHF 10
 .—\n\nUne confirmation vous sera envoyée avec le lien 'zoom' ainsi que les
  détails Twint ou Iban pour le réglement d'ici mi-avril !\n\n\n\n
DTSTART:20210422T190000
DTEND:20210422T213000
LOCATION:ONLINE via ZOOM
ORGANIZER:MAILTO:BPW Neuchatel <info@bpw-neuchatel.ch>
SUMMARY:Conférence - Comment te parler pour que tu me comprennes ?
END:VEVENT
END:VCALENDAR
