BEGIN:VCALENDAR
VERSION:2.0
PRODID:-//BPW Neuchatel//NONSGML kigkonsult.se iCalcreator 2.16.12//
METHOD:PUBLISH
X-MS-OLK-FORCEINSPECTOROPEN:TRUE
BEGIN:VEVENT
UID:20260424T155744CEST-6344oHm6GK@BPW Neuchatel
DTSTAMP:20260424T135744Z
DESCRIPTION:\nCONFERENCE ZOOM - EVENEMENT EPD\n\nEVENEMENT INTERACTIF\n\nA 
 l’occasion de la journée EPD pour rendre visible l’écart salarial entre le
 s hommes et les femmes se tiendra : le 19 février à 18h via zoom\, nous fê
 terons aussi le 50ème anniversaire du droit de vote des femmes en Suisse.
 \n\nNotre conférencier\, Monsieur Jean Dessoulavy\, historien et professeu
 r d’Histoire exposera :\n\nLe droit de vote des femmes : histoire d’une ma
 rche\n\nA l’issue de cette conférence interactive nous lèverons notre verr
 e de l’amitié solidaire de toutes les femmes.\n\nCette conférence qui sera
  conduite par Madame Souad Hachler est ouverte à toutes et tous.\n\nVoici 
 le lien pour se connecter directement à la conférence :\n\nParticiper à la
  réunion Zoom\nhttps://zoom.us/j/96245758501?pwd=b1VrMkRJUzVYODVISU92TStiV
 0d1Zz09\n\nID de réunion : 962 4575 8501\nCode secret : 205211\n\n\n\n\n
DTSTART:20210219T180000
DTEND:20210219T193000
LOCATION:ONLINE via ZOOM
ORGANIZER:MAILTO:BPW Neuchatel <info@bpw-neuchatel.ch>
SUMMARY:Equal Pay Day - CONFERENCE INTERACTIVE
END:VEVENT
END:VCALENDAR
