BEGIN:VCALENDAR
VERSION:2.0
PRODID:-//BPW Neuchatel//NONSGML kigkonsult.se iCalcreator 2.16.12//
METHOD:PUBLISH
X-MS-OLK-FORCEINSPECTOROPEN:TRUE
BEGIN:VEVENT
UID:20260424T153447CEST-5549M07H38@BPW Neuchatel
DTSTAMP:20260424T133447Z
DESCRIPTION:\n\n\nSur la plus haute et très belle terrasse de Neuchâtel !\n
 \nUne soirée à ne pas manquer ! Ouvertes à toutes !\n\nNotre prochain évèn
 ement 'tout en hauteur' est agendé pour le mardi 21 septembre 2021 dès 18h
 30 à l'Hôtel Beaulac à Neuchâtel.\n\nUne soirée sur la plus haute terrrass
 e de Neuchâtel sera festive\, gustative mais surtout riche en réseautage.
 \n\nN'hésitez pas à inviter vos amies\, collègues ou relations d'affaires 
 susceptibles d'être intéressées par notre club.\nLe prix de la soirée incl
 ue plusieurs cocktails et un buffet varié qui saura vous combler. Un cockt
 ail dinatoire composé de différents mets servis en buffet et accompagnés d
 e délicieux cocktails (ou non)\, saura combler vos papilles gustatives.\n
 \nLe prix unique de cette soirée\, à payer sur place pour les membres et n
 on-membres est de CHF 64.--\n\nDans le soucis d'organisation et de lutte a
 nti-gaspillage\, nous vou prions de vous inscrire d'ici le 18 septembre 20
 21. Un fois inscrite\, merci de prendre note que tout désistement au-delà 
 de cette date\, vous sera facturé !\n\nAu plaisir de vous retrouver pour c
 ette soirée que nous espérons riche en partages\, nouvelles rencontres et 
 instants magiques !\n\nInscriptions fermées \n\n\n
DTSTART:20210921T183000
DTEND:20210921T213000
LOCATION:Hôtel Beaulac
ORGANIZER:MAILTO:BPW Neuchatel <info@bpw-neuchatel.ch>
SUMMARY:Cocktail dînatoire et réseautage tout en hauteur !!
END:VEVENT
END:VCALENDAR
