BEGIN:VCALENDAR
VERSION:2.0
PRODID:-//BPW Neuchatel//NONSGML kigkonsult.se iCalcreator 2.16.12//
METHOD:PUBLISH
X-MS-OLK-FORCEINSPECTOROPEN:TRUE
BEGIN:VEVENT
UID:20260424T154715CEST-8675UUwj3U@BPW Neuchatel
DTSTAMP:20260424T134715Z
DESCRIPTION:\nEn raison du dysfonctionnement et désagréments liés à la Seco
 nde Guerre mondiale\, les réunions entre clubs ou fédérations de BPW n'éta
 ient plus possibles. Il fallait trouver alors un moyen d'entretenir les re
 lations et la proximité entre les femmes et de les renforcer malgré les di
 stances. Ainsi\, l’idée de créer la Cérémonie des bougies a vu le jour à c
 ette fin.\n\nMême si\, aujourd’hui\, nous ne sommes plus dans le même beso
 in qu'à l’époque\, nous sommes malgré tout limitées dans notre rayon de mo
 uvement. A tel point que les réunions au niveau des clubs ne sont plus pos
 sibles en présentiel y compris à l’extérieur.\n\nFort de ces considération
 s\, le BPW Switzerland a donc décidé d'organiser cette année une célébrati
 on nationale de la cérémonie des bougies en ligne. Elle devrait être un si
 gne de la solidarité de toutes les BPW en Suisse. Notre réseau est et rest
 era fort.\n\nBPW Suisse vous invite donc le 9 février 2021 à 19h sur Zoom 
 à cet effet.\n\nEquipez-vous d'une bougie non encore allumée en blanc\, bl
 eu ou rose\, d'un briquet ou d'allumettes et d'une boisson de votre choix 
 dans un cadre douillet : soyez là ! Nous vous attendons avec impatience !
 \n\nCette célébration nationale se veut une offre complémentaire aux céléb
 rations de la cérémonie des bougies organisées à l'intérieur des clubs. Le
  message de BPW Switzerland sera disponible dans l'espace intérieur à part
 ir du 10 février 2021.\n\nVeuillez vous enregistrer s'il vous plaît. Le li
 en d'accès correspondant sera envoyé par courrier peu avant l'événement.\n
  
DTSTART:20210209T190000
DTEND:20210209T210000
ORGANIZER:MAILTO:BPW Neuchatel <info@bpw-neuchatel.ch>
SUMMARY:Céremonie des bougies du BPW Switzerland
END:VEVENT
END:VCALENDAR
