BEGIN:VCALENDAR
VERSION:2.0
PRODID:-//BPW Neuchatel//NONSGML kigkonsult.se iCalcreator 2.16.12//
METHOD:PUBLISH
X-MS-OLK-FORCEINSPECTOROPEN:TRUE
BEGIN:VEVENT
UID:20260424T153642CEST-8081jUAuuu@BPW Neuchatel
DTSTAMP:20260424T133642Z
DESCRIPTION:\n \n\nLe Lobby européen des Femmes a eu trente ans en 2020. La
  pandémie lui a imposé une transformation de ses processus de travail afin
  de prendre rapidement en compte l’impact différencié de la pandémie sur l
 es femmes – souvent en première ligne parmi les soignants et autres profes
 sions maintenant la vie sociale.\nBPW Europe en est membre fondateur et Ma
 rcelle Devaud\, qui fut Vice-Présidente de BPW International\, fut le prem
 ier point de contact en France lors de la création des plateformes nationa
 les.\nLe Lobby\, fort de 31 coordinations nationales et 17 organisations e
 uropéennes de femmes\, influe les décisions et les programmes de l'Union e
 uropéenne dans la prise en compte de la perspective de genre\, dans le ren
 forcement de l'égalité femmes-hommes et dans la lutte contre les violences
  faites aux femmes.\n\nAmélie Leclercq a découvert -au hasard d’un forum d
 es associations- un club BPW il y a 26 ans et cela l’a entraînée dans des 
 activités et contrées inattendues.\nElle représente\, depuis 2O14\, BPW Eu
 rope dans le Conseil d’administration du Lobby européen des Femmes\, où el
 le met en avance les problématiques économiques et professionnelles. Entre
  2008 et 2011\, elle fut coordinatrice de BPW Europe et a participé à la c
 réation de l’entité légale nécessaire à nos actions de lobbying auprès des
  institutions européennes. Elle a aussi eu diverses fonctions au sein de B
 PW France et BPW Belgium. Elle tweete en tant que @AmelieBPW.\n\nLorsque l
 es activités BPW le permettaient\, Amélie a mené une carrière atypique au 
 sein du système judiciaire français\, en tant que directrice de greffe\, p
 assant de responsable administrative d’un parquet à la direction d’un serv
 ice informatique\, à une mise à disposition auprès de la Commission europé
 enne et plus récemment au sein du ministère de l’intérieur de Bulgarie. \n
 Afin de s’implanter durablement en Bulgarie\, elle a créé à Sofia son entr
 eprise\, juste avant la pandémie\, afin de former et de gérer des projets 
 en matière de justice\, affaires intérieures\, en prenant en compte à la f
 ois les questions d’égalité et d’accessibilité du monde du travail aux per
 sonnes handicapées.\n\nMercredi 17.02.2021\, 19h : visioconférence Zoom av
 ec Amélie Leclercq.\nID de réunion : 854 4205 4660\nCode secret : 435804\n
 \n\n
DTSTART:20210217T190000
DTEND:20210217T200000
LOCATION:Online
ORGANIZER:MAILTO:BPW Neuchatel <info@bpw-neuchatel.ch>
SUMMARY:Les BPW dans le Lobby Européen des Femmes.
END:VEVENT
END:VCALENDAR
