BEGIN:VCALENDAR
VERSION:2.0
PRODID:-//BPW Neuchatel//NONSGML kigkonsult.se iCalcreator 2.16.12//
METHOD:PUBLISH
X-MS-OLK-FORCEINSPECTOROPEN:TRUE
BEGIN:VEVENT
UID:20260424T155637CEST-3967W10Rf3@BPW Neuchatel
DTSTAMP:20260424T135637Z
DESCRIPTION:\n\nComment créer une relation saine à l'argent et assumer d'en
 \nvouloir plus ?\n\n \n\n\nNotre invitée pour la soirée est Marine Melo\, 
 Business & Mindset spécialiste du Money Mindset. Elle aide les femmes à so
 igner leur relation à l'argent et à leur puissance afin qu'elle puisse att
 irer à elles plus d'abondance et de succès !\n \n\nSur inscription uniquem
 ent pour les membres BPW !\n\nInscription jusqu'au 21 mai 2021 !\nUne conf
 irmation avec le lien zoom pour la conférence sera envoyée quelques jours 
 avant la conférence.\nPrix pour les membres : CHF 20.--\nPrix pour les you
 ngs : CHF 10.--\n\n\nTout désistement au-delà de ce délai sera impossible 
 et la conférence facturée !\n\n \n\n\n\n
DTSTART:20210526T190000
DTEND:20210526T204500
LOCATION:ONLINE via ZOOM
ORGANIZER:MAILTO:BPW Neuchatel <info@bpw-neuchatel.ch>
SUMMARY:MONEY MINDSET avec Marine Melo
END:VEVENT
END:VCALENDAR
