BEGIN:VCALENDAR
VERSION:2.0
PRODID:-//BPW Neuchatel//NONSGML kigkonsult.se iCalcreator 2.16.12//
METHOD:PUBLISH
X-MS-OLK-FORCEINSPECTOROPEN:TRUE
BEGIN:VEVENT
UID:20260419T133335CEST-1379nzUrl2@BPW Neuchatel
DTSTAMP:20260419T113335Z
DESCRIPTION:\nMasterclass     \n\nMardi 9 novembre 2021 dès 18h30 !\n\nEn q
 uelques mots\, Doris Oberholzer de Just D.O Face Yoga est une enseignante 
 certifiée de la méthode FACE YOGA\, mais également une technicienne Chakra
  du système Corsps Miroir certifiée par la Brofman Foundation for the Adva
 ncement of Healing. \n\nEn plus de posséder plusieurs formations reconnues
  en cosmétologie\, nutrition appliquée et sciences culinaires\, ainsi qu'u
 n master en Gestion de projet PMP\, Doris est notamment la fondatrice de J
 ust DO Face Yoga et aussi la créatrice d'une méthode holistique unique bas
 ée sur une approche 360° de la réjuvénation.\n\nLors de cette masterclass 
 & apéro au Café Okapi à Neuchâtel\, nous aurons le plaisir de découvrir la
  méthode de Doris. \n\nThème de la Masterclass :\n\n'Activez votre Pouvoir
  de Transformation' ou comment rajeunir de 10ans !\n\nEn trois étapes :\n
 \n\n	RALENTIR et inverser le processur du vieillissement\n	REGENERER au nive
 au cellulaire\n	RENFORCER durablement\n\n\nSur inscription uniquement !\nDé
 lai au samedi 6 novembre 2021 dernier délai\, au delà de cette date\, aucu
 n désistement ne sera accepté sans facturation.\n\nCOVID-19 : Il est de la
  responsabilité des inscrites de prendre connaissances des mesures COVID e
 n vigueur lors de la date de l'évènement ainsi que du lieu où il se tiendr
 a !\n\nPrix pour les membres : CHF 35.--\n\nPrix pour les non-membres : CH
 F 50.--\n\nPour information\, cette masterclass sera filmée afin de la met
 tre à disposition de nos membres #BPWNeuchatel dans un deuxième temps !\n
DTSTART:20211109T190000
DTEND:20211109T200000
LOCATION:Café Okapi
ORGANIZER:MAILTO:BPW Neuchatel <info@bpw-neuchatel.ch>
SUMMARY:Masterclass interactive et participative 
END:VEVENT
END:VCALENDAR
