BEGIN:VCALENDAR
VERSION:2.0
PRODID:-//BPW Neuchatel//NONSGML kigkonsult.se iCalcreator 2.16.12//
METHOD:PUBLISH
X-MS-OLK-FORCEINSPECTOROPEN:TRUE
BEGIN:VEVENT
UID:20260424T153643CEST-1224UbbUkb@BPW Neuchatel
DTSTAMP:20260424T133643Z
DESCRIPTION:\n\n\nSoirée de Noël 2021 \n\nDécouverte de 3 auteurs de livres
 ...\n\nEnfilez votre plus belle tenue de Noël et venez fêter avec nous dan
 s la plus pure tradition italienne !\n\nEt si vous aimez les cadeaux\, il 
 vous suffit d’ajouter à votre tenue une pièce ou un accessoire de Noël et 
 une surprise vous attend tout droit venue de Gragnano\, petit village de l
 a région de Naples.\n\nEn plein centre de Neuchâtel\, dans un environnemen
 t chaleureux et accueillant\, nous vous invitons à découvrir ou redécouvri
 r les Galeries Marval\, centre d’exposition culturel. \n\nVoici le menu de
  la soirée spécialement concocté pour vous :\n\n18h    le Prosecco coulera
  à flot et les antipastis vous mettrons  l’eau à la bouche.\n\n19h     nou
 s célébrerons :\n\nLe courage avec Giselle Rufer\, membre de notre club et
  première femme à avoir créé\nune marque horlogère.\n\n            et\n\nL
 ’échec avec François Courvoisier\, professeur honoraire de la HES-SO//Haut
 e école\nde gestion Arc à Neuchâtel et Sedat Adiyaman\, directeur de la so
 ciété think2make.ch et créateur du premier espace coworking de Neuchâtel.
 \n\n20h30 repas festif \n\nCoût de la soirée : CHF 60.- pour les membres\n
 \nInscription & choix du menu : via le formulaire d'inscription en sélecti
 onnant le menu de votre choix\n\nMenu 1 : Salade verte **** Fettuccine cac
 io\, poivre & truffe **** Dessert à choix \n\nMenu 2 : Salade verte **** P
 ollo alla cacciatora\, accompagnement du jour  **** Dessert à choix\n\n\nP
 aiement : Afin de valider votre inscription\, jusqu'au 8 décembre 2021\n\n
 Fin des inscriptions au 9.12.2021\n\n \n\n\n
DTSTART:20211214T180000
DTEND:20211214T223000
LOCATION:Galeries Marval
ORGANIZER:MAILTO:BPW Neuchatel <info@bpw-neuchatel.ch>
SUMMARY:Soirée de Noël BPW Neuchâtel
END:VEVENT
END:VCALENDAR
