BEGIN:VCALENDAR
VERSION:2.0
PRODID:-//BPW Neuchatel//NONSGML kigkonsult.se iCalcreator 2.16.12//
METHOD:PUBLISH
X-MS-OLK-FORCEINSPECTOROPEN:TRUE
BEGIN:VEVENT
UID:20260424T155540CEST-1383nZbORk@BPW Neuchatel
DTSTAMP:20260424T135540Z
DESCRIPTION:\n\n\nSoirée Estivale organisée par le BPW Neuchâtel\n\nEvèneme
 nt estival à la Villa Castellane Neuchâtel\n\nN'hésitez pas à venir accomp
 agnée avec une ou plusieurs amies afin de lui/leur faire découvrir notre c
 lub ! \n\nDans un cadre magnifique\, cette soirée sera festive\, et de sur
 croît riche en réseautage !\nEt sans oublier notre surprise d’ambiance org
 anisée par le BPW Neuchâtel !\n\nMerci d'avance pour votre inscription ave
 c le lien ci-dessous.\n\nUn prix unique pour les agapes et boissons inclus
 es pour les membres et non-membres : CHF 40.--\n\n \n\n\n
DTSTART:20210713T183000
DTEND:20210713T213000
LOCATION:Villa Castella
ORGANIZER:MAILTO:BPW Neuchatel <info@bpw-neuchatel.ch>
SUMMARY:Garden Party & Réseautages
END:VEVENT
END:VCALENDAR
