BEGIN:VCALENDAR
VERSION:2.0
PRODID:-//BPW Neuchatel//NONSGML kigkonsult.se iCalcreator 2.16.12//
METHOD:PUBLISH
X-MS-OLK-FORCEINSPECTOROPEN:TRUE
BEGIN:VEVENT
UID:20260424T154542CEST-6154NvvUX8@BPW Neuchatel
DTSTAMP:20260424T134542Z
DESCRIPTION:\nRencontre et réseautage\n\nInédit \n\nRencontre Interclub BPW
  Vaud & BPW Neuchâtel\n\nUne journée pour se rencontrer autrement\, en deh
 ors du « rush » habituel des lunchs et des fins de journées chargées en se
 maine!\n\nUne journée pour prendre le temps de se rencontrer\, faire plus 
 connaissance. Échanger et réseauter dans une ambiance détendue et convivia
 le.\n\nUne journée sous le signe des 5 sens\, avec la complicité du 6ème !
 ! SURPRISE !!\n\nNous vous avons préparé plusieurs ateliers ludiques\, ins
 pirants et formateurs\, sur les thèmes de la voix\, de l’écriture\, de l’i
 mage et de la relaxation\, pour renouer le lien à soi\, nourrir le lien au
 x autres. Vous pourrez vous inscrire à un ou plusieurs ateliers d’environs
  60 min répartis dans la journée.\n\nUn magnifique programme que nous vous
  avons préparé.... je vous laisse vous inspirer ci-dessous ⬇\n\nAtelier av
 ec Caroline Despont - Notre créativité par la voix(e) de l'écriture\, la r
 etrouver\, la développer\, la nourrir.\n\nAtelier avec Thérèse Forbes-Jaeg
 er - Jeux et enjeux de la voix : explorer son potentiel vocal\, un lien à 
 soi\, un lien aux autres\n\nAtelier avec Rachel Pesquet - photographe et c
 réatrice de Wow et d'émotions.\n\nAtelier avec Mandy McGill de chez ArtofL
 iving Kerala - Découvrir le pouvoir de la Respiration et Médiation sur not
 re Bien-être et notre santé Mentale.\n\n \n\nUn apéritif et lunch sont pré
 vus pour rendre cette journée inoubliable !\n\n \n\nLe samedi 2 octobre 20
 21\n\nDe 11h30 à 16h30 (et plus si vous avez envie de prolonger sur la ter
 rasse)\n\nHôtel La Prairie\, à Yverdon-les-Bains \, un écrin de verdure en
  pleine ville \n\nForfait pour la journée :\n\nMembres :  55.00 CHF\n\nNon
 -Membres : 65.00 CHF\n\nVous êtes partantes ? On vous attend avec impatien
 ce pour une journée inédite. Nous vous invitons à vous inscrire via le lie
 n ci-dessous\, et un email avec de plus amples informations vous parviendr
 a en guise de confirmation pour la journée.\n\n \n\nIl est de la responsab
 ilité des inscrites de prendre connaissances des mesures et réglementation
 s sanitaires liées au COVID en vigueur pour cette date et de les suivre !
 \n\n
DTSTART:20211002T113000
DTEND:20211002T163000
LOCATION:Hôtel de la Prairie
ORGANIZER:MAILTO:BPW Neuchatel <info@bpw-neuchatel.ch>
SUMMARY:Rencontre Interclub - BPW Neuchâtel et BPW Vaud 
END:VEVENT
END:VCALENDAR
