BEGIN:VCALENDAR
VERSION:2.0
PRODID:-//BPW Neuchatel//NONSGML kigkonsult.se iCalcreator 2.16.12//
METHOD:PUBLISH
X-MS-OLK-FORCEINSPECTOROPEN:TRUE
BEGIN:VEVENT
UID:20260424T154756CEST-9560Oc5ADS@BPW Neuchatel
DTSTAMP:20260424T134756Z
DESCRIPTION:\nL’association Business & Professional Women Club Ticino est r
 avie de vous inviter à l’exposition photographique itinérante BPW Experien
 ce21 qui se déplacera dans les villes principales du Tessin:\n\n▪ Mendrisi
 o samedi 4 septembre 2021 Piazzale de La Filanda\n▪ Lugano samedi 11 septe
 mbre 2021 Patio Palazzo Civico - Piazza Riforma\n▪ Locarno samedi 18 septe
 mbre 2021 Largo Franco Zorzi - devant Globus\n▪ Bellinzona samedi 25 septe
 mbre 2021 Piazza del Sole\n\nPlus d'informations \n \n\n\n
DTSTART:20210904T000000
DTEND:20210925T235900
LOCATION:Ticino 
ORGANIZER:MAILTO:BPW Neuchatel <info@bpw-neuchatel.ch>
SUMMARY:BPW Experience21 Ticino
END:VEVENT
END:VCALENDAR
