BEGIN:VCALENDAR
VERSION:2.0
PRODID:-//BPW Neuchatel//NONSGML kigkonsult.se iCalcreator 2.16.12//
METHOD:PUBLISH
X-MS-OLK-FORCEINSPECTOROPEN:TRUE
BEGIN:VEVENT
UID:20260424T153637CEST-1031So0VAV@BPW Neuchatel
DTSTAMP:20260424T133637Z
DESCRIPTION:\n \nSortie du film - Les nouvelles Eves\n\nMercredi 8 décembre
  2021 à Morat - Feuerwehrmagazin n°1\nCiné-Doc\n\nLES NOUVELLES EVES est u
 n film sur la détermination\, l'intuition\, l'assistance\, la force et sur
  une société qui laisse peu d'espace pour que ces valeurs puissent se dépl
 oyer. Les aperçus alternés de la vie de ces héroïnes du quotidien montrent
  comment elles résistent consciemment aux attributions de rôles dictées pa
 r la société. Elles défendent toutes leurs objectifs personnels et se batt
 ent pour faire tomber les barrières sociales.Un regard perspicace et authe
 ntique\, personnel\, discret et politiquement explosif.\n\nPRESENTES DU CO
 MITE BPW NEUCHATEL : Séverine Maeder\, vice-Présidente et Stéphanie Mirus\
 , Responsable communication.\n\nAnnée de production : 2021\nPays : Suisse
 \nDurée : 83 min\nLangues : Suisse allemand\,\nfrançais\, italien. Sous-ti
 tres français\nProduction Emilia Productions\nRéal isation : Camille Budin
 \,\nAnnie Gisler\, Jela Hasler\, Thais\nOdermatt\, Wendy Pillonel & Anna\n
 Thommen\nFestivals Zurich Film Festival 2021\n\nSynopsis\nJuin 2020\, un a
 n après la grève nationale des femmes et en pleine pandémie\, six\nréalisa
 trices s'immergent dans le quotidien de six femmes suisses et expriment ce
 \nque cela signifie d'être une femme aujourd'hui.\nLe film dresse\, au plu
 s près des protagonistes et avec beaucoup de douceur\, le\nportrait de six
  héroïnes du quotidien.\nUne fille de 9 ans demande de voir diminuer les s
 téréotypes\, une chanteuse d'opéra\ndésire s'exprimer librement\, une prof
 esseure d’université recherche l’équilibre au\nquotidien entre sa carrière
  et sa famille\, une migrante s’engage en faveur de sa\nréussite professio
 nnelle et personnelle\, une retraitée qui désire profiter de la vie tout\n
 en faisant face à peu de ressources\, une jeune fille qui souhaite pouvoir
  définir sa\nsexualité librement. Toutes ces femmes ont un point commun\, 
 elles contestent\nchacune à leur manière\, les inégalités entre les sexes 
 qui existent encore dans notre\npays.\n\nPrix : sur place\nRéservation : v
 ia ce lien directement avec le cinéma de Morat le cinéma\, MAGAZINE DES SA
 PEURS-POMPIERS N°1 (kino-murten.ch\n\nTrailer : https://youtu.be/0suzekw7w
 mo\n\nRéglementation COVID-19 en vigueur et merci d'avance pour votre comp
 réhension !\n \n
DTSTART:20211208T200000
DTEND:20211208T220000
LOCATION:Morat
ORGANIZER:MAILTO:BPW Neuchatel <info@bpw-neuchatel.ch>
SUMMARY:Film - avant-première
END:VEVENT
END:VCALENDAR
