BEGIN:VCALENDAR
VERSION:2.0
PRODID:-//BPW Neuchatel//NONSGML kigkonsult.se iCalcreator 2.16.12//
METHOD:PUBLISH
X-MS-OLK-FORCEINSPECTOROPEN:TRUE
BEGIN:VEVENT
UID:20260424T154506CEST-2788v8Mdhz@BPW Neuchatel
DTSTAMP:20260424T134506Z
DESCRIPTION:\n\nJeudi 19 janvier 2023    \nà 18h30\n\nHôtel des Arts à Neuc
 hâtel \n\nNotre Assemblée Générale se tiendra le jeudi 19.1.2023 à Neuchât
 el à l'hôtel des Arts suivie d'une petite agape offerte à nos membres !\n
 \n\n\nVoici l’ordre du jour :\n1. PV AG 2022\n2. Ordre du jour\n3. Etat de
 s membres – Présentation des nouvelles membres\n    (dédites et exclusions
 )\n4. Rétrospective événements 2022 et statistiques réseaux sociaux\n5. Fi
 nances :\n    a. Comptes\n    b. Décharge\n    c. Budget\n    d. Nominatio
 n des réviseuses\n6. BPW Suisse et international\n7. Equal Pay Day\n8. Com
 ité\n    Départ – responsable communication\n    Proposition de remplaceme
 nt\n    Co-présidence\n    Poste ouvert\n    Validation du nouveau comité
 \n9. Découverte des événements 2023\n10. Divers\n      Base de données\n  
     Proposition de sujets pour les événements\n11. Clôture\n\n\n \n\n \n\n
 \n\n\n\nMerci d'avance pour votre inscription et au plaisir de vous y renc
 ontrer !\n\n \n\nInscription possible via le formulaire ci-dessous jusqu'a
 u 15 janvier 2023 midi ! Au delà de cette date\, aucune inscription se pou
 rra être possible. Merci de contacter info@bpw-neuchatel.ch !    \n
DTSTART:20230119T183000
DTEND:20230119T220000
LOCATION:Hôtel des Arts
ORGANIZER:MAILTO:BPW Neuchatel <info@bpw-neuchatel.ch>
SUMMARY:BPW Neuchâtel - Assemblée Générale
END:VEVENT
END:VCALENDAR
