BEGIN:VCALENDAR
VERSION:2.0
PRODID:-//BPW Neuchatel//NONSGML kigkonsult.se iCalcreator 2.16.12//
METHOD:PUBLISH
X-MS-OLK-FORCEINSPECTOROPEN:TRUE
BEGIN:VEVENT
UID:20260424T155851CEST-9764gatpKI@BPW Neuchatel
DTSTAMP:20260424T135851Z
DESCRIPTION:Explorer la quintessence\, révéler l'unicité et élever l'essenc
 e créative par l'art du parfum.\n\n \n\nNous avons le plaisir d'avoir Emma
 nuelle Grau-Bretin\, Directrice et Créatrice de Flacon & Molécule comme in
 vitée le mardi 22 mars 2022 à 18h00 à la Villa Castellane à Neuchâtel pour
  notre prochaine conférence soumise à inscription.\n\nUn atelier où Emmanu
 elle vous fera envie d'explorer la beauté intérieure et de la révéler à tr
 avers la poésie des parfums. Comme une alchimiste transformant le métal en
  or\, Emmanuelle combine les deux à travers l'art de la parfumerie\, en fa
 isant ressortir la matière en esprit.\n\nDe chirurgienne à styliste\, Emma
 nuelle Grau-Bretin réussit à allier bien-être et esthétique en proposant d
 u design olfactif et du stylisme sensoriel.\n\nCette conférence sera suivi
 e par des agapes élaborées salées et sucrées\, accompagnées d'un verre de 
 rouge ou blanc\, d'un verre d'eau minérale\, et une jarre de thé menthe ma
 rocaine à volonté sera également au buffet.\n\nPrix pour nos membres : CHF
  45.--\nPrix pour les non-membres : CHF 55.--\n\nDélai d'inscription au 19
  mars 2022 au plus tard.\n\nUne fois inscrite\, merci de prendre note que 
 tout désistement au-delà du 17 mars 2022 vous sera facturé.\n\nPossibilité
  de payer cash sur place et/ou par scan & pay\, directement sur votre appl
 ication bancaire\, ou paiement IBAN !\n\n\n\n
DTSTART:20220322T180000
DTEND:20220322T213000
LOCATION:Villa Castellane 
ORGANIZER:MAILTO:BPW Neuchatel <info@bpw-neuchatel.ch>
SUMMARY:Conférence avec Emmanuelle Grau-Bretin - Flacon & Molécule
END:VEVENT
END:VCALENDAR
