BEGIN:VCALENDAR
VERSION:2.0
PRODID:-//BPW Neuchatel//NONSGML kigkonsult.se iCalcreator 2.16.12//
METHOD:PUBLISH
X-MS-OLK-FORCEINSPECTOROPEN:TRUE
BEGIN:VEVENT
UID:20260424T153642CEST-2510w3vV4m@BPW Neuchatel
DTSTAMP:20260424T133642Z
DESCRIPTION:\n\n\nAssistez à notre conférence du 27 avril 2022 dès 18h30 à 
 Neuchâtel.\n\n \n\nLa diversité culturelle a un impact important sur la fa
 çon dont nous communiquons.\n\nElle peut expliquer pourquoi nous percevons
  et interprétons différemment des informations et des situations qui sembl
 ent être les mêmes.\n\nComment éviter les situations de malentendus ?\nCom
 ment communiquer plus efficacement dans des relations culturellement diver
 sifiées ?\nComment construire la confiance d'une manière qui correspond au
 x valeurs de votre récepteur ?\n\nDéveloppez votre compétence interculture
 lle (CQ)\, de la prise de conscience à l'agilité\, à travers votre propre 
 curiosité et à l'aide des concepts de communication interculturelle.\n\nAu
  cours de cette séance\, notre conférencière pour la soirée\, Suzanne Laur
 itzen vous présentera le modèle LMR de Richard Lewis et discutera des situ
 ations où l'agilité culturelle peut vous aider à naviguer entre les défis 
 et opportunités interculturelles.\n\nAu LobbyBar à Neuchâtel\, vous trouve
 rez l'adresse ci-dessous\nPrix pour les membres : CHF 40.--\nPrix pour les
  non-membres : CHF 50.--\n\nInscription possible jusqu'au 24 avril 2022 mi
 di !\n\nA Neuchâtel dès 18h30\, cette conférence sera suivie d'un apéritif
  et d'un moment de réseautage.\n\n\n
DTSTART:20220427T183000
DTEND:20220427T213000
LOCATION:LobbyBar 
ORGANIZER:MAILTO:BPW Neuchatel <info@bpw-neuchatel.ch>
SUMMARY:Conférence - Agilité Interculturelle
END:VEVENT
END:VCALENDAR
