BEGIN:VCALENDAR
VERSION:2.0
PRODID:-//BPW Neuchatel//NONSGML kigkonsult.se iCalcreator 2.16.12//
METHOD:PUBLISH
X-MS-OLK-FORCEINSPECTOROPEN:TRUE
BEGIN:VEVENT
UID:20260424T153512CEST-9086E9FZUu@BPW Neuchatel
DTSTAMP:20260424T133512Z
DESCRIPTION:\nSoirée dégustation & réseautage - jeudi 12.5.2022 à 18h30 - a
 ccueil dès 18h00.\n\n« Santé ! Rejoignez-nous pour une dégustation de vins
  ! » \n\nDurant cette soirée\, nous aurons le plaisir de découvrir le vign
 oble de Chantal Ritter Cochand au Landeron.\n\nNous commencerons si le tem
 ps le permet par une visite dans les vignes agrémentée par des explication
 s sur son domaine !\n\nAprès cette balade extérieure\, nous irons découvri
 r la vinification ainsi que d'autres étapes importantes. Mais Chantal nous
  fera également part de son parcours en tant que femme vigneronne tout en 
 nous faisant déguster avec passion ses différents vins.\n\nInscrivez-vous 
 à cette soirée riche en apprentissage\, remplie de découvertes vinicoles !
 \n\nDégustation de vins servie avec des sèches aux lards et de quelques do
 uceurs !\nPrix pour les membres : CHF 25.--\nPrix pour les non-membres : C
 HF 35.--\nHABITS DE CIRCONSTANCE à adapter selon le temps !\n\nLes places 
 sont limitées\, dépêchez-vous de vous inscrire !\n \n\nDélai au 7 mai 2022
  pour les inscriptions\n\n\n\n\n
DTSTART:20220512T183000
DTEND:20220512T213000
LOCATION:Cave Ritter Cochand Chantal
ORGANIZER:MAILTO:BPW Neuchatel <info@bpw-neuchatel.ch>
SUMMARY:Dégustation de vin
END:VEVENT
END:VCALENDAR
