BEGIN:VCALENDAR
VERSION:2.0
PRODID:-//BPW Neuchatel//NONSGML kigkonsult.se iCalcreator 2.16.12//
METHOD:PUBLISH
X-MS-OLK-FORCEINSPECTOROPEN:TRUE
BEGIN:VEVENT
UID:20260424T160039CEST-8815VUz7Mp@BPW Neuchatel
DTSTAMP:20260424T140039Z
DESCRIPTION:\n\nProgramme du week-end de l'Assemblée des délégués 2022\n\nC
 ’est avec un grand plaisir que BPW Club Vaud et BPW Switzerland vous accue
 illons dans le canton de Vaud à l’occasion de l’Assemblée des Déléguées 20
 22 et des 75 ans de BPW Switzerland.\n\nVous trouverez ci-dessous le progr
 amme complet du week-end des 10 et 11 juin\, tous les prix et d'autres inf
 ormations.\n\nSous réserve de modifications mineures du programme à court 
 terme.\n\nNous nous réjouissons de passer un week-end étincelant !\n\n\nUn
  grand merci à nos sponsors\n\n\n\n\n\n \n\nHébergement\n\nDes chambres à 
 tarif spécial sont réservées exclusivement pour les participants à l'Assem
 blée des déléguées à l'hôtel Aquatis Aquarium Vivarium.\n\nPour plus d'inf
 ormations cliquez ici... \n\nLe programme\n\n\n\nVendredi\, 10 juin 2022\,
  Alumnae meeting\n\nUne rencontre destinée aux présidentes de club actuell
 es et anciennes\, les membres actuels et anciens du comité central\, les a
 nciennes présidentes de BPW Switzerland.\n\nCette réunion traditionnelle d
 u vendredi soir promet aux participantes un petit saut dans le temps\, pui
 squ’elle sera entièrement placée sous le signe des 75 dernières années de 
 BPW Switzerland\, avec des anecdotes\, des histoires et des expériences de
 s anciennes présidentes de BPW Switzerland. Ensemble\, nous nous pencheron
 s sur le passé\, mais aussi sur l’avenir de BPW Switzerland et des femmes 
 en Suisse.\n\nInformations détaillées et inscription...\n\n\nSamedi 11 jui
 n 2022\, jour de l'Assemblée des Déléguées 2022\n\nLieu                   
       AQUATIS Hôtel\, Route de Berne 148\, 1010 Lausanne\n         \nLe sa
 medi matin\, les BPW et les invitées pourront prendre part à des ateliers 
 sur divers thèmes passionnants. L’après-midi\, nous attaquerons la «partie
  officielle» du week-end: l’Assemblée des Déléguées de BPW Switzerland. Le
  comité central de BPW Switzerland présentera les projets de l’année écoul
 ée\, puis les déléguées voteront sur les points à l’ordre du jour.\n\ndès 
 08h30                Accueil et enregistrement\, café de bienvenue\n\n10h 
 à 12h                Ateliers\n                                \n12h à 14h
                 Déjeuner-buffet\n\n14h à 17h                Assemblée des 
 Déléguées de BPW Switzerland\n\n18.30h                     Apéritif à l’Aq
 uarium\, privatisé pour BPW\n\n20h00                      Dîner d’annivers
 aire 75 ans de BPW Switzerland au Restaurant le Piranha (tenue elegante)\n
 \nProgramme partenaires Samedi à partir du midi\n\n11h30                  
        Pick-up à l’hôtel par la guide et visite guidée de la ville\, (accè
 s par les transports publics)\n\n13h00                         Brunch au T
 OM café\, le restaurant du Musée Olympique (Sélection d’entrées à partager
 \, plat principal\, assortiment de desserts                               
       à partager)\n\n14h30                          Visite Guidée du Musée
  Olympique\n\n16h00                          Retour à l’hôtel Aquatis\n\nL
 es partenaires sont en outre cordialement invités à participer au dîner d'
 anniversaire. Celui-ci peut également être réservé séparément et indépenda
 mment du programme pour les partenaires. \n\nImportant à savoir:\n\n\n	\n	L’
 inscription à notre week-end de l’assemblée des déléguées a été réalisée a
 vec un nouveau système de billets. Vous établissez ainsi individuellement 
 votre programme et payez commodément par carte de crédit\, Twint ou\, comm
 e jusqu’à présent\, sur facture. Après le paiement\, vous recevez votre bi
 llet par voie électronique. Pour cette raison\, des billets distincts doiv
 ent être achetés pour les partenaires.\n	\n	\n	L'inscription aux différents p
 ackages de manifestations est close. Dès à présent\, seule la visite de l'
 assemblée des délégués peut être réservée\, sans consommation ni programme
 -cadre ou de partenariat. Nous acceptons les inscriptions par e-mail à inf
 o@bpw.ch.\n	\n	\n	L’inscription est contraignante. Pour toute annulation aprè
 s le 20 mai 2022\, 50.00 CHF de frais d’annulation vous seront facturés.\n
 	\n	\n	À partir du 6 juin\, seule la visite de l’assemblée des déléguées pour
 ra encore être réservée\, sans consommation ni programme cadre ou de parte
 naires.\,\n	\n	\n	Pour toute annulation après le 6 juin\, ou non-annulation\,
  l’ensemble des frais d’inscription vous sera facturé.\n	\n	\n	Sous réserve d
 e modifications mineures du programme à court terme.\n	\n\n\n\n\n
DTSTART:20220610T000000
DTEND:20220611T235900
LOCATION:Lausanne
ORGANIZER:MAILTO:BPW Neuchatel <info@bpw-neuchatel.ch>
SUMMARY:Assemblée des Déléguées 2022 et anniversaire du BPW Switzerland 
END:VEVENT
END:VCALENDAR
