BEGIN:VCALENDAR
VERSION:2.0
PRODID:-//BPW Neuchatel//NONSGML kigkonsult.se iCalcreator 2.16.12//
METHOD:PUBLISH
X-MS-OLK-FORCEINSPECTOROPEN:TRUE
BEGIN:VEVENT
UID:20260424T154634CEST-6513dzRbF6@BPW Neuchatel
DTSTAMP:20260424T134634Z
DESCRIPTION:\nInvitation officielle du BPW Club Uri avec toutes les informa
 tions importantes\n\nProgramme de la journée\, 5 Novembre 2022\n\n9h - 9h4
 5                       Arrivée et check-in à la réception du Radisson Blu
  Hotel Reussen\n                                      Puis\, café de bienv
 enue dans le foyer de l’Andermatt Concert Hall\,\n                        
               au sein du même bâtiment\n\n9.45h - 10h                    A
 ccueil par le club BPW Uri à l’Andermatt Concert Hall\n                   
                    Discours d’accueil de Heidi Z’graggen\,\n              
                         Conseillère aux États du canton d’Uri\n\n10h - 12h
 30                  Conférence d’automne nationale de BPW Switzerland\n\n1
 2h30 - 14h                  Repas de midi au Restaurant Spun\n\n14h15 - 17
 h                  Programme de l’après-midi à l’Andermatt Concert Hall\n
 \n                                      Court métrage\n\n                 
                      Exposé introductif\n\n                               
        Doris Russi Schurter\, entrepreneuse\n                             
          Filomena Russo\, accompagnement psychologique\n                  
                     Rita Christen\, présidente de l’Association suisse des
  guides de montagne\n\n                                      Discussion de
  podium modérée par Elisabeth Fähndrich du club BPW Uri\n\nSoirée d’annive
 rsaire\n\nLes membres de BPW et leurs conjoints ou conjointes et les invit
 és sont chaleureusement conviés à fêter le 25e anniversaire du club BPW Ur
 i.\n\nCode vestimentaire       \nÉlégant-décontracté\nIl sera possible de 
 se changer dans les vestiaires du spa du Radisson Blu Hotel.\n\n18h - 18h4
 5                      Apéritif dans le foyer de l’Andermatt Concert Hall
 \n\n19h - 23h                          Souper d’anniversaire à l’Andermatt
  Concert Hall\n                                         Surprises culturel
 les\n\nA partir de 23h                 Young BPW Girls Night Out pour les 
 jeunes BPW \n                                          et toutes celles qu
 i aimeraient être de la partie\n                                          
 organisé par Sheerah Kim\, Young Representative BPW Switzerland\n         
                                  Toutes les informations ici\n\nCoûts et i
 nscriptions\n\nprix par personne \nConférence d’automne avec repas de midi
  (eau minérale et café inclus)\,\nprogramme de l’après-midi\nCHF 135.-\n\n
 Souper d’anniversaire (apéritif\, eau minérale et café inclus)\nCHF 105.-
 \n\nConférence d’automne\, repas de midi\,\nprogramme de l’après-midi et s
 ouper d’anniversaire\nCHF 235.-\n\nInscription en ligne sur www.bpw.ch\n\n
 \nL'inscription est définitive. En cas d’annulation avant le 30 septembre 
 2022\, des frais d’annulation de CHF 30 par personne seront facturés. Aprè
 s cette date ou en l’absence d’annulation\, la totalité des frais d’inscri
 ption sera due.\n\nLe jour de la manifestation\, les restrictions relative
 s à la pandémie de Covid-19 mises en œuvre par la Confédération et le cant
 on d’Uri s’appliquent.\n\nLa date limite d'inscription est le 28 octobre 2
 022 à 20 heures. \n\nBPW Switzerland\nLänggassstrasse 10\, 3012 Berne\nTél
 éphone: 044 948 23 20\, info@bpw.ch\n\nDes informations sur le voyage et l
 'hébergement à Andermatt se trouvent dans le flyer d'invitation. \n\nBPW C
 lub Uri et BPW Switzerland sont là pour vous\n\nPour toute question concer
 nant l'événement\, le mieux est de contacter le BPW Club Uri par e-mail : 
 info@bpw-uri.ch. Pour les questions relatives à l'inscription\, veuillez c
 ontacter BPW Switzerland à l'adresse suivante : info@bpw.ch\n\n \n\nUn gra
 nd merci à nos sponsors!\n\n\n\n\n\n\n\n \n\n\n\n\n\n
DTSTART:20221105T000000
DTEND:20221105T235900
LOCATION:Andermatt
ORGANIZER:MAILTO:BPW Neuchatel <info@bpw-neuchatel.ch>
SUMMARY:Conference d'automne et 25ième anniversaire du BPW Club Uri
END:VEVENT
END:VCALENDAR
