BEGIN:VCALENDAR
VERSION:2.0
PRODID:-//BPW Neuchatel//NONSGML kigkonsult.se iCalcreator 2.16.12//
METHOD:PUBLISH
X-MS-OLK-FORCEINSPECTOROPEN:TRUE
BEGIN:VEVENT
UID:20260424T153502CEST-8211g2Rccd@BPW Neuchatel
DTSTAMP:20260424T133502Z
DESCRIPTION:Soirée Estivale organisée par le BPW Neuchâtel\n\nEvènement est
 ival à la Villa Perret à Neuchâtel\n\nNous avons d’ores et déjà commandé l
 e soleil et de quoi vous désaltérer\, afin de partager en toute amitié et 
 faire plus ample connaissance avec chacune d’entre vous\, nous sommes ravi
 es de vous inviter à notre Summer Party\, le jeudi 23 juin 2022 dès 18h30.
 \n\nCette année\, nous vous invitons à découvrir une magnifique demeure hi
 storique de la ville de Neuchâtel\, La Villa Perret construite en 1902 et 
 restée à l’abandon jusqu’en 2020. Elle renaît aujourd’hui en accueillant u
 n espace d’innovation pour permettre à des entreprises de se développer.\n
 \n\n\nSon splendide jardin de 5'000 mètres arboré permet de faire revivre 
 le site en proposant divers événements organisés par « Pavillon Voisins » 
 et favoriser ainsi les échanges.\n\n\n\nNotre Summer Party est réservée à 
 nos membres et chacune d’entre vous\, avez la possibilité d’inviter une fe
 mme qui souhaite découvrir le BPW sous un angle chaleureux et convivial.\n
 \n\n\nNous profiterons du jardin pour cette soirée estivale et le verre de
  bienvenue vous sera offert.\n\n\n\nEnsuite\, si vous souhaitez manger que
 lque chose\, vous pourrez vous approcher des Food trucks qui proposent des
  Sushi végétarien\, des Burgers\, Nuggets…\n\nChacune d’entre vous pourra 
 ainsi prendre à sa charge ce qu’elle consomme !\n\n\n\nAfin d’organiser au
  mieux votre accueil\, nous vous invitons à vous inscrire au moyen de lien
  ci-dessous jusqu’au vendredi 17 juin prochain.\n\n\n\nNous nous réjouisso
 ns d’ores et déjà de partager ce moment estival avec vous.\n\n\n\nPour le 
 Comité\,\n
DTSTART:20220623T183000
DTEND:20220623T213000
LOCATION:Villa Perret 
ORGANIZER:MAILTO:BPW Neuchatel <info@bpw-neuchatel.ch>
SUMMARY:Summer Party & réseautage
END:VEVENT
END:VCALENDAR
