BEGIN:VCALENDAR
VERSION:2.0
PRODID:-//BPW Neuchatel//NONSGML kigkonsult.se iCalcreator 2.16.12//
METHOD:PUBLISH
X-MS-OLK-FORCEINSPECTOROPEN:TRUE
BEGIN:VEVENT
UID:20260424T154505CEST-8947sxUKCL@BPW Neuchatel
DTSTAMP:20260424T134505Z
DESCRIPTION:\n\nLEADERSHIP - Back to Basics !\n\nUne conférence animée par 
 Gabriella Agnéus\, membre BPW Neuchâtel \n\nMercredi 24 août 2022 de 18h30
  à 20h30\n\n \n\nIl y a actuellement pléthore d’appellations et d’offres p
 our des formations en Leadership et Management sur le marché. \n\n\n\nCett
 e offre est indispensable sachant que la formation continue est impérative
  pour rester employable et développer ses compétences. L’envers du décor e
 st que la formation est avant tout un business qui ne réponds pas toujours
  aux problèmes réels rencontrés par les dirigeants dans la gestion de leur
 s équipes. \n\n\n\nDans le cadre de ma pratique de consulting\, de gestion
  du changement et de formation au sein de multiples PME depuis plus de 8 a
 ns\, j’ai constaté que fréquemment\, il manque aux dirigeants et futurs di
 rigeants les approches et réflexions fondamentales pour diriger efficaceme
 nt.\n\nD’où ma proposition pour cette conférence-formation interactive qui
  reviendra sur les concepts fondamentaux et vous invitera à une réflexion 
 sur le 'moi en qualité de leader': se connaître soi-même\, comprendre son 
 vis-à-vis\, savoir définir des objectifs\, adopter la bonne attitude pour 
 mener les équipes vers le succès.\n\nDurée : 2h (avec pause de 10’) \n\nAf
 in de favoriser l’interaction lors de la conférence\, je vous invite à pre
 ndre 20 minutes pour vous préparer en effectuant les deux tests (gratuits)
  suivants : \n\nQuel type de manager êtes-vous ? (5’)\nhttps://www.advalor
 is.ch/inside/quiz-type-de-manager-etes\n\nQuelle est votre personnalité ? 
 \nTest de personnalité « DISC essentiel » en ligne (12’)\nhttps://www.prof
 il4.com/disc-test\n \n\nL'accueil se fera dès 17h30\, et il est important 
 que la conférence puisse commencer à 18h30 précise ! Ceci afin de vous per
 mettre de réseauter devant un buffet dinatoire agrémenté de vins dès 20h30
  !\n\nPrix pour les membres : CHF 55.--\nPrix pour les non-membres : CHF 7
 5.--\n\nInscription jusqu'au 18 août 2022 22h00 !\n\n\n\n\n
DTSTART:20220824T183000
DTEND:20220824T213000
LOCATION:Restaurant les Nemours
ORGANIZER:MAILTO:BPW Neuchatel <info@bpw-neuchatel.ch>
SUMMARY:Conférence interactive sur le leadership
END:VEVENT
END:VCALENDAR
